BEGIN:VCALENDAR
VERSION:2.0
PRODID:icalendar-ruby
CALSCALE:GREGORIAN
METHOD:PUBLISH
BEGIN:VEVENT
DTSTAMP:20260422T181309Z
UID:23-290382@abidingfaithtx.org
DTSTART:20261101T160000Z
DTEND:20261101T170000Z
CLASS:PUBLIC
CREATED:20260422T120834
DESCRIPTION:Join us as we worship in our temporary location while we are in
  the middle of relocating and building! 
LAST-MODIFIED:20260422T120834
LOCATION:14055 Park Drive\, Tomball\, TX 77377
SUMMARY:Worship Service 
URL;VALUE=URI:https://abidingfaithtx.org/events/worship-service--23/2026-11
 -01
ATTACH;FILENAME=Screenshot-2024-11-03-at-3.04.30%E2%80%AFPM.png;FMTTYPE=ima
 ge/png:https://dq5pwpg1q8ru0.cloudfront.net/2024/11/03/21/05/12/26240b1f-3
 388-4ee8-85bc-0000986568a9/Screenshot-2024-11-03-at-3.04.30%25E2%2580%25AF
 PM.png
END:VEVENT
END:VCALENDAR
